Workbook

Sheet Introduktion
A1: #VALUE!
A2: Vejledningsskema til NIS2 cybersikkerhedsforanstaltninger for fødevarevirksomheder
A4: Fane | B4: Vejledningsskema | C4: Selvevaluering_beskrivelse | D4: Selvevaluering_output
A5: Indhold | B5: I fanen "selvevalueringsværktøj" optræder et struktureret overblik over de krav, der stilles i gennemførselsforordning nr. 2024/2690's bilag, artikel 1-13 (NIS2-loven). Skemaet giver desuden mulighed for at udfylde selvevalueringsfelter. | C5: Denne fane kan anvendes ved udfyldelse af vejledningsskemaets selvevalueringsfelter. Her beskrives felternes indhold, og hvordan man kan vurdere hvilken værdi, der skal angives. | D5: Denne fane er låst og skal ikke redigeres af brugeren. Den viser outputtet fra det input, man kan indtaste i vejledningsskemaets selvevalueringsfelter.

Sheet Virksomhedsoplysninger
A1: #VALUE!
A2: Fødevarevirksomhedens oplysninger
A4: Oplysning | B4: Virksomhedsnavn | C4: Virksomhedens CVR-nr. | D4: Udfyldelsesperiode start (dd-mm-yyyy) | E4: Udfyldelsesperiode slut (dd-mm-yyyy)
A5: Indhold

Sheet Selvevalueringsværktøj
A1: #VALUE!
A2: Selvevaluering af NIS2 cybersikkerhedsforanstaltninger
A4: Foranstaltninger | D4: Selvevaluering (1-4) | E4: Dokumentation
A5: NIS 2-Loven §6, stk. 1 | B5: Beskrivelse | C5: Vejledende kommentarer | D5: Implementering af foranstaltninger | E5: Henvisning til dokumentation
A6: 1a. POLITIK FOR INFORMATIONSSYSTEMSSIKKERHED
A7: 1.1 | B7: Enheden skal udarbejde og implementere en politik for informationssystemsikkerhed i net- og informationssystemer.
A8: 1.2 | B8: Politikken skal ud fra en risikobaseret tilgang sikre et passende sikkerhedsniveau i forhold til enhedens formål og under hensyntagen til det aktuelle tekniske niveau, gennemførelsesomkostninger og risiciene mod sikkerheden i enhedens net- og informationssystemer, der kan forvolde skade på data og tjenester af samfundsmæssig betydning.
A9: 1.3 | B9: Politikken skal være passende i forhold til NIS 2-loven og de forretningsmæssige mål, enheden har sat sig for at nå.
A10: 1.4 | B10: Emnespecifikke politikker skal være i overensstemmelse med politikken for informationssystemsikkerhed.
A11: 1.5 | B11: Politikken for informationssystemsikkerhed skal være godkendt af enhedens ledelsesorgan.
A12: 1.6 | B12: Politikken bør understøtte enhedens kerneaktiviteter og eventuelle værdier samt tage højde for de risici, der er relevante for enheden.
A13: 1.7 | B13: Politikken for informationssystemsikkerhed bør: • Fastsætte enhedens tilgang til styring af sikkerheden i deres net- og informationssystemer - altså den samlede ramme for, hvordan enheden adresserer og håndterer sikkerheden i sine net- og informationssystemer, både på strategisk og operationelt niveau • Inkludere målsætninger for cybersikkerhed – altså beskrivelser af, hvad enheden ønsker at opnå med sincybersikkerhed • Inkludere en forpligtelse til at opfylde eventuelle krav i relation til cybersikkerhed, eksempelvis lovmæssige krav som GDPR • Inkludere en forpligtelse til fortsat forbedring af informationssystemsikkerhedspolitikken, hvor det vurderes at være relevant • Være tilgængelig som dokumentation for alle relevante interessenter
A14: 1.8 | B14: Politikken for informationssystemsikkerhed bør ajourføres årligt og ved væsentlige ændringer af enhedens forretningsmæssige mål og i trusselsbilledet.
A15: 1.9 | B15: Eventuelle emnespecifikke politikker bør gennemgås af den relevante ledelse, og resultatet af gennemgang og eventuelle tilretninger rapporteres til enhedens ledelsesorgan.
A16: 1b. POLITIK FOR RISIKOSTYRING
A17: 1.10 | B17: Enheden skal etablere og vedligeholde en politik for passende risikostyring for at identificere og adressere alle de relevante risici, der er i forhold til sikkerheden i enhedens net- og informationssystemer.
A18: 1.11 | B18: Enheden skal etablere og vedligeholde en politik for passende risikostyring for at identificere og adressere alle de relevante risici, der er i forhold til sikkerheden i enhedens net- og informationssystemer.
A19: 1.12 | B19: Resultatet af risikovurdering, den planlagte risikohåndtering og niveauet af de tilbageværende risici, skal accepteres af risikoejeren, primært i relation til samfundsrisici, med passende rapportering til enhedens ledelsesorgan.
A20: 1.13 | B20: Politikken for risikostyring skal være dokumenteret og godkendt af enhedens relevante ledelse.
A21: 1.14 | B21: Politikken for risikostyring bør i forlængelse heraf: • Fastlægge en risikostyringsproces • Være en integreret del af enhedens generelle risikostyring • Omfatte alle trusler og sikre, at risikostyring adresserer risici, der stammer fra tredje part,eksempelvis leverandører • Etablere og vedligeholde kriterier for risikoevaluering • Identificere risikoejere og dokumentere deres ansvar.
A22: 1.15 | B22: Politikken bør også indeholde metoder til risikovurdering og kan indeholde en beskrivelse af: • Hvordan enheden identificerer og dokumenterer risici mod net- og informationssystemer, inklusiv identifikation af single points of failures. • Hvordan risici mod sikkerheden i net- og informationssystemer analyseres (truslen,sandsynligheden, konsekvens, eksisterende foranstaltninger, risikostørrelse) under iagttagelse af cybertrusler og sårbarheder. • Hvordan de identificerede risici evalueres på baggrund af de fastsatte kriterier. • Hvordan enheden identificerer og prioriterer passende foranstaltninger under hensyntagen til risikovurderingen og foranstaltningernes effektivitet. • Hvem der er ansvarlig for rettidigt at implementere de foranstaltninger, enheden har besluttet sig for. • Hvordan enheden dokumenterer de valgte foranstaltninger og begrundelserne for accept af de risici, der eventuelt er tilbage.
A23: 1.16 | B23: Politikker for risikostyring bør ajourføres med planlagte intervaller og ved væsentlige ændringer af enhedens forretningsmæssige virksomhed og ændringer i enhedens sårbarheder og trusselsbillede.
A24: 2a. HÅNDTERING AF HÆNDELSER
A25: 2.1 | B25: Enheden skal udarbejde og implementere procedurer (eksempelvis i beredskabsplaner) for at kunne identificere, opdage, analysere og reagere på hændelser, herunder for at kunne genoprette sikker stabil drift samt håndtere underretningsforpligtelser ved væsentlige hændelser.
A26: 2.2 | B26: Enheden skal have, eller gennem aftaler med tredje part have adgang til, kompetencer, der kan sikre, at: • Enheden kan vurdere hændelser for at afgøre, om hændelserne er væsentlige. Hvis det vurderes at være en væsentlig hændelse, skal enheden være i stand til at bestemme, hvad hændelsen indebærer, og hvor alvorlig den er.
A27: 2.3 | B27: Procedure for håndtering af hændelser skal være dokumenteret og godkendt af den relevante ledelse.
A28: 2.4 | B28: Enheden bør i fornødent omfang: • Definere roller, ansvar og procedurer for at forebygge, opdage, analysere, inddæmme eller reagere på, genoprette, dokumentere og rapportere væsentlige hændelser så hurtigt som muligt. Herunder kan enheden have kommunikationsplaner for ekstern og intern kommunikation, samt nødkommunikationssystemer • Implementere en procedure, der gør det muligt for medarbejdere, leverandører og kunder at kunne indberette mistænkelige hændelser internt i enheden. Processen bør være så let som mulig, for at der ikke skal opstå barrierer for, at den bliver brugt • Reagere på hændelser rettidigt og i overensstemmelse med enhedens procedurer for hændelseshåndtering • Gennemføre en gennemgang efter en væsentlig hændelse og identificere den grundlæggende årsag til hændelsen. Det kan bidrage til at udlede de erfaringer, der kan reducere forekomsten og konsekvenserne af fremtidige hændelser.
A29: 2.5 | B29: Enheden bør med planlagte mellemrum teste deres procedurer for reaktion på hændelser for at undersøge, om procedurerne virker efter hensigten.
A30: 2.6 | B30: Procedure for håndtering af hændelser bør ajourføres med planlagte intervaller og ved væsentlige ændringer af enhedens forretningsmæssige mål og ændringer i enhedens og trusselsbillede.
A31: 2b. LOGNING OG MONITORERING
A32: 2.7 | B32: Enheden skal i nødvendigt omfang have processer og bruge værktøjer til at monitorere og logge samt reagere på aktiviteter på deres netværk og i deres informationssystemer. Hermed bliver enheden i stand til at opdage eventuelle hændelser og reagere i overensstemmelse hermed for at afbøde virkningerne. | C32: Logs kan, afhængig af enhedens teknologiske stade og en risikobaseret tilgang, eksempelvis omfatte: • Udgående og indgående netværkstrafik. • Oprettelse, ændring eller sletning af brugere og udvidelse af tilladelser. • Adgang til systemer og applikationer. • Privilegeret adgang til systemer og applikationer. • Aktiviteter, der udføres af privilegerede konti. • Adgang til og ændringer i kritiske konfigurations- og backupfiler. • Hændelseslogfiler og logfiler fra sikkerhedsværktøjer, f.eks. antivirus, Intrusion Detection/Prevention System eller firewalls. • Brug af systemressourcer samt deres ydeevne. • Adgang til og brug af enhedens netværksudstyr og –komponenter. • Fysisk adgang til enhedens faciliteter, eksempelvis elektroniske adgangskontrolsystemer (ADK). • Miljøhændelser, der kan påvirke enhedens netværk og informationssystemer negativt, som f.eks. oversvømmelsesalarmer.
A33: 2.8 | B33: Enheden skal vedligeholde, dokumentere og gennemgå logfiler | C33: Logfilerne kan i relevant omfang gennemgås – manuelt eller automatiseret – for at opdage usædvanlige eller uønskede tendenser, og derfor bør enheden definere passende tærskler for, hvornår der skal skrides ind. Hvis de definerede tærskelværdier overskrides, kan det eventuelt automatisk udløse en alarm. Det ansvarlige personale skal sikre, at der i tilfælde af en alarm iværksættes en passende reaktion.
A34: 2.9 | B34: Logdata skal sikres mod manipulation og beskyttes mod uautoriseret adgang mv
A35: 2.10 | B35: Monitorering bør så vidt muligt være automatiseret (f.eks. Intrusion Detection Systems) og kan udføres enten i realtid eller med regelmæssige intervaller, afhængigt af virksomhedens muligheder.
A36: 2.11 | B36: Enheden bør opbevare og sikkerhedskopiere logfiler i en på forhånd
A37: 2.12 | B37: De implementerede foranstaltninger bør f.eks. være i stand til at opdage netværksbaserede angreb baseret på unormale ind- eller udgående trafikmønstre og/eller DDoS-angreb (distributed denial of service) i tide.
A38: 2.13 | B38: Enheden bør sikre, at alle systemer har synkroniseret tid (tids-kilde) for at kunne sammenligne logs mellem systemer til vurdering af hændelser.
A39: 2.14 | B39: Enheden bør udarbejde og føre en liste over alle de aktiver, der logges.
A40: 2.15 | B40: Cybersikkerheden i monitorerings- og logningssystemerne bør monitoreres uafhængigt af de systemer, de overvåger og logger.
A41: 2.16 | B41: Procedurerne for logning og monitorering, samt listen over aktiver eller hændelser, der logges, bør gennemgås med planlagte intervaller, og når der sker ændringer, blandt andet i trusselsbilledet og ved kendte sårbarheder, eller i tilfælde af væsentlige hændelser.
...

Sheet Selvevaluering_beskrivelse
B2: Selvevaluering: værdier og beskrivelse
B3: Implementering af foranstaltninger | F3: Handlingsplan | H3: KRAV OG ANBEFALINGER
B4: Betydning af værdier | D4: 1 | E4: Foranstaltningen er hverken implementeret eller planlagt | F4: Alle elementer markeret med rød identificeres som kritiske eller problematiske. Fokus er her på at reducere væsentlig risiko, fejl eller ineffektivitet. Første skridt er at flytte alle røde elementer til orange, hvilket betyder, at situationen er stabiliseret, men fortsat kræver betydelig opmærksomhed. | H4: Betydning af farvekoder | K4: I denne vejledning skelnes der mellem de dele af foranstaltningerne, der SKAL implementeres (et krav), de dele af foranstaltningerne der BØR implementeres (en anbefaling).
D5: 2 | E5: Foranstaltningen er planlagt, men ikke implementeret | F5: Når røde elementer er rykket til orange, arbejdes der videre med at reducere risiko og påvirkning. Orange indikerer fortsat forhøjet risikoniveau, men med iværksatte tiltag. Målet er at forbedre disse forhold yderligere, så de kan rykkes til gul status. | J5: SKAL | K5: Enheder skal kunne forelægge dokumentation for de foranstaltninger, der SKAL implementeres.
D6: 3 | E6: Foranstaltningen er delvist implementeret | F6: Gule værdier er under kontrol, men stadig ikke optimale. Her fokuseres der på yderligere forbedring og stabilisering, så elementerne kan bringes til grøn status, hvilket indikerer en acceptabel og stabil tilstand. | J6: BØR | K6: For de dele af foranstaltninger, der BØR implementeres, skal enheden over for den relevante tilsynsførende myndighed være i stand til at forklare, hvorfor de ikke har implementeret den pågældende foranstaltning. Denne vurdering skal tage hensyn til det aktuelle teknologiske stade, gennemførelsesomkostningerne og enhedens risici, herunder samfundsmæssige og økonomiske indvirkninger. Benyt "Ikke relevant" i dropdown menuen hvis et BØR krav ikke implementeres.
D7: 4 | E7: Foranstaltningen er fuldt implementeret | F7: Til sidst fokuseres der på de grønne værdier. Der arbejdes stadig med løbende optimering. Målet er at reducere værdien så tæt på 1 som muligt. Grøn markerer altså både stabilitet og aktiv forbedring. | H7: #VALUE!
D8: Ikke relevant | E8: Det er ikke relevant at angive et svar i denne kategori. | F8: Disse undtages fra handling, såfremt der foreligger tilstrækkelig og forsvarlig dokumentation.

Sheet Selvevaluering_output
A1: #VALUE!
A2: Output fra selvevalueringen
A23: 1a. POLITIK FOR INFORMATIONSSYSTEMSSIKKERHED
A24: 1.1 | B24: =Selvevalueringsværktøj!D7 -> 0
A25: 1.2 | B25: =Selvevalueringsværktøj!D8 -> 0
A26: 1.3 | B26: =Selvevalueringsværktøj!D9 -> 0
A27: 1.4 | B27: =Selvevalueringsværktøj!D10 -> 0
A28: 1.5 | B28: =Selvevalueringsværktøj!D11 -> 0
A29: 1.6 | B29: =Selvevalueringsværktøj!D12 -> 0
A30: 1.7 | B30: =Selvevalueringsværktøj!D13 -> 0
A31: 1.8 | B31: =Selvevalueringsværktøj!D14 -> 0
A32: 1.9 | B32: =Selvevalueringsværktøj!D15 -> 0
A33: 1b. POLITIK FOR RISIKOSTYRING
A34: 1.10 | B34: =Selvevalueringsværktøj!D17 -> 0
A35: 1.11 | B35: =Selvevalueringsværktøj!D18 -> 0
A36: 1.12 | B36: =Selvevalueringsværktøj!D19 -> 0
A37: 1.13 | B37: =Selvevalueringsværktøj!D20 -> 0
A38: 1.14 | B38: =Selvevalueringsværktøj!D21 -> 0
A39: 1.15 | B39: =Selvevalueringsværktøj!D22 -> 0
A40: 1.16 | B40: =Selvevalueringsværktøj!D23 -> 0
A41: Gennemsnit §6, stk. 1 | B41: =AVERAGE(B24:B40) -> 0
A42: 2a. HÅNDTERING AF HÆNDELSER
A43: 2.1 | B43: =Selvevalueringsværktøj!D25 -> 0
A44: 2.2 | B44: =Selvevalueringsværktøj!D26 -> 0
A45: 2.3 | B45: =Selvevalueringsværktøj!D27 -> 0
A46: 2.4 | B46: =Selvevalueringsværktøj!D28 -> 0
A47: 2.5 | B47: =Selvevalueringsværktøj!D29 -> 0
A48: 2.6 | B48: =Selvevalueringsværktøj!D30 -> 0
A49: 2b. LOGNING OG MONITORERING
A50: 2.7 | B50: =Selvevalueringsværktøj!D32 -> 0
A51: 2.8 | B51: =Selvevalueringsværktøj!D33 -> 0
A52: 2.9 | B52: =Selvevalueringsværktøj!D34 -> 0
A53: 2.10 | B53: =Selvevalueringsværktøj!D35 -> 0
A54: 2.11 | B54: =Selvevalueringsværktøj!D36 -> 0
A55: 2.12 | B55: =Selvevalueringsværktøj!D37 -> 0
A56: 2.13 | B56: =Selvevalueringsværktøj!D38 -> 0
A57: 2.14 | B57: =Selvevalueringsværktøj!D39 -> 0
A58: 2.15 | B58: =Selvevalueringsværktøj!D40 -> 0
A59: 2.16 | B59: =Selvevalueringsværktøj!D41 -> 0
A60: 2.17 | B60: =Selvevalueringsværktøj!D42 -> 0
...
