Workbook

Sheet Introduktion
A1: #VALUE!
A2: Vejledningsskema til NIS2 cybersikkerhedsforanstaltninger for fødevarevirksomheder
A4: Fane | B4: Vejledningsskema | C4: Selvevaluering_beskrivelse | D4: Selvevaluering_output
A5: Indhold | B5: I fanen "selvevalueringsværktøj" optræder et struktureret overblik over de krav, der stilles i gennemførselsforordning nr. 2024/2690's bilag, artikel 1-13 (NIS2-loven). Skemaet giver desuden mulighed for at udfylde selvevalueringsfelter. | C5: Denne fane kan anvendes ved udfyldelse af vejledningsskemaets selvevalueringsfelter. Her beskrives felternes indhold, og hvordan man kan vurdere hvilken værdi, der skal angives. | D5: Denne fane er låst og skal ikke redigeres af brugeren. Den viser outputtet fra det input, man kan indtaste i vejledningsskemaets selvevalueringsfelter.

Sheet Virksomhedsoplysninger
A1: #VALUE!
A2: Fødevarevirksomhedens oplysninger
A4: Oplysning | B4: Virksomhedsnavn | C4: Virksomhedens CVR-nr. | D4: Udfyldelsesperiode start (dd-mm-yyyy) | E4: Udfyldelsesperiode slut (dd-mm-yyyy)
A5: Indhold

Sheet Selvevalueringsværktøj
A1: #VALUE!
A2: Selvevaluering af NIS2 cybersikkerhedsforanstaltninger
A4: Foranstaltninger | D4: Selvevaluering (1-4) | E4: Dokumentation
A5: NIS 2-Loven §6, stk. 1 | B5: Beskrivelse | C5: Vejledende kommentarer | D5: Implementering af foranstaltninger | E5: Henvisning til dokumentation
A6: 1a. POLITIK FOR INFORMATIONSSYSTEMSSIKKERHED
A7: 1.1 | B7: Enheden skal udarbejde og implementere en politik for informationssystemsikkerhed i net- og informationssystemer.
A8: 1.2 | B8: Politikken skal ud fra en risikobaseret tilgang sikre et passende sikkerhedsniveau i forhold til enhedens formål og under hensyntagen til det aktuelle tekniske niveau, gennemførelsesomkostninger og risiciene mod sikkerheden i enhedens net- og informationssystemer, der kan forvolde skade på data og tjenester af samfundsmæssig betydning.
A9: 1.3 | B9: Politikken skal være passende i forhold til NIS 2-loven og de forretningsmæssige mål, enheden har sat sig for at nå.
A10: 1.4 | B10: Emnespecifikke politikker skal være i overensstemmelse med politikken for informationssystemsikkerhed.
A11: 1.5 | B11: Politikken for informationssystemsikkerhed skal være godkendt af enhedens ledelsesorgan.
A12: 1.6 | B12: Politikken bør understøtte enhedens kerneaktiviteter og eventuelle værdier samt tage højde for de risici, der er relevante for enheden.
A13: 1.7 | B13: Politikken for informationssystemsikkerhed bør: • Fastsætte enhedens tilgang til styring af sikkerheden i deres net- og informationssystemer - altså den samlede ramme for, hvordan enheden adresserer og håndterer sikkerheden i sine net- og informationssystemer, både på strategisk og operationelt niveau • Inkludere målsætninger for cybersikkerhed – altså beskrivelser af, hvad enheden ønsker at opnå med sincybersikkerhed • Inkludere en forpligtelse til at opfylde eventuelle krav i relation til cybersikkerhed, eksempelvis lovmæssige krav som GDPR • Inkludere en forpligtelse til fortsat forbedring af informationssystemsikkerhedspolitikken, hvor det vurderes at være relevant • Være tilgængelig som dokumentation for alle relevante interessenter
A14: 1.8 | B14: Politikken for informationssystemsikkerhed bør ajourføres årligt og ved væsentlige ændringer af enhedens forretningsmæssige mål og i trusselsbilledet.
A15: 1.9 | B15: Eventuelle emnespecifikke politikker bør gennemgås af den relevante ledelse, og resultatet af gennemgang og eventuelle tilretninger rapporteres til enhedens ledelsesorgan.
A16: 1b. POLITIK FOR RISIKOSTYRING
A17: 1.10 | B17: Enheden skal etablere og vedligeholde en politik for passende risikostyring for at identificere og adressere alle de relevante risici, der er i forhold til sikkerheden i enhedens net- og informationssystemer.
A18: 1.11 | B18: Enheden skal etablere og vedligeholde en politik for passende risikostyring for at identificere og adressere alle de relevante risici, der er i forhold til sikkerheden i enhedens net- og informationssystemer.
A19: 1.12 | B19: Resultatet af risikovurdering, den planlagte risikohåndtering og niveauet af de tilbageværende risici, skal accepteres af risikoejeren, primært i relation til samfundsrisici, med passende rapportering til enhedens ledelsesorgan.
A20: 1.13 | B20: Politikken for risikostyring skal være dokumenteret og godkendt af enhedens relevante ledelse.
A21: 1.14 | B21: Politikken for risikostyring bør i forlængelse heraf: • Fastlægge en risikostyringsproces • Være en integreret del af enhedens generelle risikostyring • Omfatte alle trusler og sikre, at risikostyring adresserer risici, der stammer fra tredje part,eksempelvis leverandører • Etablere og vedligeholde kriterier for risikoevaluering • Identificere risikoejere og dokumentere deres ansvar.
A22: 1.15 | B22: Politikken bør også indeholde metoder til risikovurdering og kan indeholde en beskrivelse af: • Hvordan enheden identificerer og dokumenterer risici mod net- og informationssystemer, inklusiv identifikation af single points of failures. • Hvordan risici mod sikkerheden i net- og informationssystemer analyseres (truslen,sandsynligheden, konsekvens, eksisterende foranstaltninger, risikostørrelse) under iagttagelse af cybertrusler og sårbarheder. • Hvordan de identificerede risici evalueres på baggrund af de fastsatte kriterier. • Hvordan enheden identificerer og prioriterer passende foranstaltninger under hensyntagen til risikovurderingen og foranstaltningernes effektivitet. • Hvem der er ansvarlig for rettidigt at implementere de foranstaltninger, enheden har besluttet sig for. • Hvordan enheden dokumenterer de valgte foranstaltninger og begrundelserne for accept af de risici, der eventuelt er tilbage.
A23: 1.16 | B23: Politikker for risikostyring bør ajourføres med planlagte intervaller og ved væsentlige ændringer af enhedens forretningsmæssige virksomhed og ændringer i enhedens sårbarheder og trusselsbillede.
A24: 2a. HÅNDTERING AF HÆNDELSER
A25: 2.1 | B25: Enheden skal udarbejde og implementere procedurer (eksempelvis i beredskabsplaner) for at kunne identificere, opdage, analysere og reagere på hændelser, herunder for at kunne genoprette sikker stabil drift samt håndtere underretningsforpligtelser ved væsentlige hændelser.
A26: 2.2 | B26: Enheden skal have, eller gennem aftaler med tredje part have adgang til, kompetencer, der kan sikre, at: • Enheden kan vurdere hændelser for at afgøre, om hændelserne er væsentlige. Hvis det vurderes at være en væsentlig hændelse, skal enheden være i stand til at bestemme, hvad hændelsen indebærer, og hvor alvorlig den er.
A27: 2.3 | B27: Procedure for håndtering af hændelser skal være dokumenteret og godkendt af den relevante ledelse.
A28: 2.4 | B28: Enheden bør i fornødent omfang: • Definere roller, ansvar og procedurer for at forebygge, opdage, analysere, inddæmme eller reagere på, genoprette, dokumentere og rapportere væsentlige hændelser så hurtigt som muligt. Herunder kan enheden have kommunikationsplaner for ekstern og intern kommunikation, samt nødkommunikationssystemer • Implementere en procedure, der gør det muligt for medarbejdere, leverandører og kunder at kunne indberette mistænkelige hændelser internt i enheden. Processen bør være så let som mulig, for at der ikke skal opstå barrierer for, at den bliver brugt • Reagere på hændelser rettidigt og i overensstemmelse med enhedens procedurer for hændelseshåndtering • Gennemføre en gennemgang efter en væsentlig hændelse og identificere den grundlæggende årsag til hændelsen. Det kan bidrage til at udlede de erfaringer, der kan reducere forekomsten og konsekvenserne af fremtidige hændelser.
A29: 2.5 | B29: Enheden bør med planlagte mellemrum teste deres procedurer for reaktion på hændelser for at undersøge, om procedurerne virker efter hensigten.
A30: 2.6 | B30: Procedure for håndtering af hændelser bør ajourføres med planlagte intervaller og ved væsentlige ændringer af enhedens forretningsmæssige mål og ændringer i enhedens og trusselsbillede.
A31: 2b. LOGNING OG MONITORERING
A32: 2.7 | B32: Enheden skal i nødvendigt omfang have processer og bruge værktøjer til at monitorere og logge samt reagere på aktiviteter på deres netværk og i deres informationssystemer. Hermed bliver enheden i stand til at opdage eventuelle hændelser og reagere i overensstemmelse hermed for at afbøde virkningerne. | C32: Logs kan, afhængig af enhedens teknologiske stade og en risikobaseret tilgang, eksempelvis omfatte: • Udgående og indgående netværkstrafik. • Oprettelse, ændring eller sletning af brugere og udvidelse af tilladelser. • Adgang til systemer og applikationer. • Privilegeret adgang til systemer og applikationer. • Aktiviteter, der udføres af privilegerede konti. • Adgang til og ændringer i kritiske konfigurations- og backupfiler. • Hændelseslogfiler og logfiler fra sikkerhedsværktøjer, f.eks. antivirus, Intrusion Detection/Prevention System eller firewalls. • Brug af systemressourcer samt deres ydeevne. • Adgang til og brug af enhedens netværksudstyr og –komponenter. • Fysisk adgang til enhedens faciliteter, eksempelvis elektroniske adgangskontrolsystemer (ADK). • Miljøhændelser, der kan påvirke enhedens netværk og informationssystemer negativt, som f.eks. oversvømmelsesalarmer.
A33: 2.8 | B33: Enheden skal vedligeholde, dokumentere og gennemgå logfiler | C33: Logfilerne kan i relevant omfang gennemgås – manuelt eller automatiseret – for at opdage usædvanlige eller uønskede tendenser, og derfor bør enheden definere passende tærskler for, hvornår der skal skrides ind. Hvis de definerede tærskelværdier overskrides, kan det eventuelt automatisk udløse en alarm. Det ansvarlige personale skal sikre, at der i tilfælde af en alarm iværksættes en passende reaktion.
A34: 2.9 | B34: Logdata skal sikres mod manipulation og beskyttes mod uautoriseret adgang mv
A35: 2.10 | B35: Monitorering bør så vidt muligt være automatiseret (f.eks. Intrusion Detection Systems) og kan udføres enten i realtid eller med regelmæssige intervaller, afhængigt af virksomhedens muligheder.
A36: 2.11 | B36: Enheden bør opbevare og sikkerhedskopiere logfiler i en på forhånd
A37: 2.12 | B37: De implementerede foranstaltninger bør f.eks. være i stand til at opdage netværksbaserede angreb baseret på unormale ind- eller udgående trafikmønstre og/eller DDoS-angreb (distributed denial of service) i tide.
A38: 2.13 | B38: Enheden bør sikre, at alle systemer har synkroniseret tid (tids-kilde) for at kunne sammenligne logs mellem systemer til vurdering af hændelser.
A39: 2.14 | B39: Enheden bør udarbejde og føre en liste over alle de aktiver, der logges.
A40: 2.15 | B40: Cybersikkerheden i monitorerings- og logningssystemerne bør monitoreres uafhængigt af de systemer, de overvåger og logger.
A41: 2.16 | B41: Procedurerne for logning og monitorering, samt listen over aktiver eller hændelser, der logges, bør gennemgås med planlagte intervaller, og når der sker ændringer, blandt andet i trusselsbilledet og ved kendte sårbarheder, eller i tilfælde af væsentlige hændelser.
A42: 2.17 | B42: Der bør føres dokumentation for, at gennemgangen af procedurerne finder sted på det planlagte tidspunkt.
A43: 3a. DRIFTSKONTINUITET
A44: 3.1 | B44: Enheden skal udarbejde og vedligeholde procedurer, der sikrer driftskontinuitet i tilfælde af en sikkerhedshændelse, eksempelvis en plan for fortsat drift og en plan for genopretning efter en krise. | C44: Planen for genopretning kan eksempelvis indeholde: • Genoprettelsesplaner for specifikke driftssystemer og genopretningsmål, eksempelvis hvor godt systemerne skal virke, og hvilke data der først skal være tilgængelige – dette kan f.eks. være en beslutning om, at mailsystemet skal i drift før, at filserverne er tilgængelige • Rækkefølge for genoprettelse af enhedens drift, eksempelvis hvilke tjenester der skal genoprettes før andre som følge af indbyrdes afhængigheder, en beskrivelse af genopretning og genstart af aktiviteter ved hjælp af midlertidige foranstaltninger, hvis sådanne findes – eksempelvis midlertidige arbejdsprocesser såsom manuelle arbejdsprocesser eller alternative kommunikationsformer • En plan for, hvordan enheden verificerer, at der ikke har været brud på fortrolighed og integritet under genopretningen.
A45: 3.2 | B45: Enhedens drift skal kunne genoprettes i overensstemmelse med kontinuitetsplanen.
A46: 3.3 | B46: Planen skal baseres på resultaterne af risikovurderingen og kan indeholde: • Formål, omfang og målgruppe for kontinuitetsplanen. • Roller og ansvar i tilfælde af en krise. • Nøglekontakter (interne og eksterne, eksempelvis kontaktinformationer til driftsleverandører) og overblik over kommunikationskanaler, der kan anvendes. • Betingelser for aktivering og deaktivering af enhedens beredskab. • En beskrivelse af de ressourcer, herunder backup, genindlæsning og redundans, der er behov for til at sikre driften i en krisesituation. • En beskrivelse af, hvordan samarbejdet skal være med dem, der tager sig af hændelseshåndteringen, eksempelvis hvad driften kan gøre under en hændelse, uden at det influerer negativt på inddæmning af hackere.
A47: 3.4 | B47: Planer for opretholdelse af driften bør gennemgås og testes med regelmæssige planlagte mellemrum samt efter væsentlige hændelser og større ændringer i driftsmiljøet eller ændring i risici.
A48: 3.5 | B48: Her bør det vurderes, om planerne virker efter hensigten og er tilstrækkelige og tidssvarende i forhold til enhedens aktuelle forhold.
A49: 3.6 | B49: Ændringer i planerne bør dokumenteres.
A50: 3b. BACKUP
A51: 3.7 | B51: Enheden skal etablere procedurer, der sikrer, at der tages backup af alle enhedens relevante data, herunder konfigurationsdata, i det omfang som enheden finder det nødvendigt for at opretholde sine tjenester. | C51: Afhængig af risikovurderingen og planer for driftskontinuitet kan enhedens backupplaner tage hensyn til: • Reetableringstider, eksempelvis hvor lang tid det må tage at få data fra backup tilbage i almindelig drift • Sikkerhed for, at backups er fuldstændige og nøjagtige og omfatter konfigurationsdata og data, der opbevares i cloud-tjenestemiljøet • Lagring (online eller offline) af backupkopierne på et eller flere sikre steder, som ikkebefinder sig i samme netværk som systemet (f.eks. air-gapped), og som befinder sig i tilstrækkelig afstand til at undgå enhver skade fra en hændelse på hovedstedet • En passende fysisk og logisk kontrol med adgang til backups også under transport i overensstemmelse med aktivernes klassifikationsniveau (f.eks. aflåste serverrum med adgangskontrol, sikker fysisk transport med forsegling, krypterede backups med ekstern nøglestyring, RBAC (role-based access) eller multifaktorautentificering (MFA) på backupadgang • Hvilken opbevaringsperiode, der er behov for, baseret på forretningsmæssige, juridiske og regulatoriske krav • Hvornår og hvordan der må gendannes data fra backupkopierne (herunder godkendelsesprocesser) • At der foretages regelmæssige tjek og tests af backup-kopiernes rigtighed ogfuldstændighed (integritet), og at de kan genskabes • Jævnlige test af backup og procedurer for gendannelse.
A52: 3.8 | B52: Enheden bør dokumentere, at den med jævne mellemrum tester, at dennes backup, eller alternative gendannelsesmetoder, er fuldstændig og tilgængelig i forhold til det, der er beskrevet i procedurer for backup, og at backuppen har den fornødne integritet, også selvom det ser ud til, at backup er fuldstændig.
A53: 3.9 | B53: Resultatet af tests bør dokumenteres og godkendes af den relevante ledelse.
A54: 3c. REDUNDANS
A55: 3.10 | B55: Enheden skal vurdere, om der er behov for at etablere redundans ved eksempelvis at have it-udstyr eller alternative lokationer i reserve.
A56: 3.11 | B56: Vurderingen bør tage udgangspunkt i enhedens politikker for informationssystemsikkerhed og risikostyring samt kontinuitetsplan. Vurder bl.a. behovet for redundans ved hjælp af: • Net- og informationssystemer, dvs. hardware, software, tjenester, data osv. (f.eks. redundante netværksenheder, servere med belastningsbalancering, raid-arrays, backup-tjenester, flere datacentre og nødkommunikationssystemer) • Ikke-menneskelige aktiver, herunder faciliteter (eksempelvis lokaler), udstyr (eksempelvis værktøj) og forsyninger (eksempelvis nødstrøm) • Personale med det nødvendige ansvar, bemyndigelse og kompetence • Passende supplerende eller alternative kommunikationskanaler. Enheden kan selv opbygge sin egen redundans eller indgå aftaler med tredjeparter for at tilvejebringe en passende redundans.
A57: 3.12 | B57: Enheden bør sikre, at de, der varetager overvågning og styring af ressourcer, herunder faciliteter, systemer og medarbejdere, er informeret om redundanskrav, så forventningerne er entydige, og de ansvarlige kan sikre de nødvendige ressourcer.
A58: 3.13 | B58: Enheden bør med regelmæssige planlagte mellemrum vurdere sit behov for redundans af hardware, software, tjenester, faciliteter mv. for at sikre, at de passende ressourcer er til stede i tilfælde af driftsforstyrrelser.
A59: 3.14 | B59: Anvendelse af enhedens redundante ressourcer bør være dokumenteret, så relevante medarbejdere har kendskab til, hvordan de ekstra ressourcer kan tilgås.
A60: 3d. KRISESTYRING
A61: 3.15 | B61: Enheden skal foretage en vurdering af behovet for at udarbejde en beredskabsplan med procedurer for krisestyring.
A62: 3.16 | B62: Hvis enheden vurderer, at der er behov, bør enheden etablere og dokumentere de relevante procedurer til at håndtere særligt væsentlige hændelser.
A63: 3.17 | B63: Enheden bør implementere en proces til at håndtere og anvende informationer om eksempelvis sikkerhedshændelser, sårbarheder, trusler og foranstaltninger, der modtages fra den nationale CSIRT, eller hvor relevant, den sektoransvarlige myndighed.
A64: 3.18 | B64: Den dokumenterede plan for krisestyring bør gennemgås med regelmæssige planlagte mellemrum, hvor det bør vurderes, om planen er tilstrækkelig og tidssvarende i forhold til enhedens aktuelle forhold.
A65: 3.19 | B65: Der bør regelmæssigt gennemføres øvelser, der kan belyse, om planen for krisestyring virker efter hensigten, og efterfølgende bør de ændringer til planen, det findes nødvendige, implementeres og dokumenteres.
A66: 4a. FORSYNINGSKÆDESIKKERHED
A67: 4.1 | B67: Enheden skal implementere procedurer for leverandørstyring, der sikrer både forsyningssikkerhed og cybersikkerhed i samarbejdet med direkte leverandører eller tjenesteudbydere - i det omfang deres ydelser kan påvirke sikkerheden i forhold til den eller de ydelser, som gør, at enheden er omfattet af NIS 2. Det gælder både ved levering af it-produkter og tjenester samt andre kritiske leverancer som strøm, teknisk bistand med mere. | C67: I overensstemmelse med risikovurderingen kan aftaler (kontrakter) med direkte leverandører eller tjenesteudbydere eksempelvis indeholde afsnit om: • Krav om, at leverandøren og det leverede følger relevante sikkerhedskrav, lovkrav, eksempelvis fortrolighedsklausuler, standarder mv. • Hvilke færdigheder og eventuelle uddannelser, der kræves af leverandørens personale. • Baggrundskontrol af leverandørens personale, hvis de beskæftiger sig med enhedens kritiske aktiver (i henhold til klassificeringen af aktiver og risikovurderingen). • Leverandørens forpligtelse til at underrette enheden om alle relevante hændelser, så snart de bliver opmærksomme på hændelsen, og til at bistå enheden med at overholde sine rapporteringsforpligtelser i tilfælde af væsentlige hændelser. • At direkte leverandører og tjenesteudbydere, hvis enheden er underlagt tilsyn, samarbejder med enheden om at bistå de sektoransvarlige myndigheder i forbindelse med udførelsen af deres opgaver. • Enhedens ret til revision og/eller ret til at modtage revisionsrapporter fra leverandøren. • Aftale om leveringstider på serviceydelser, herunder eventuelle reparationer. • Forpligtelse til at håndtere sårbarheder, der udgør en risiko for cybersikkerheden i enhedens net- og informationssystemer underleverandører (hvis tilladt) og foranstaltninger for underleverandører. • Leverandørens forpligtelser ved aftalens ophør, eksempelvis forpligtelse til at udlevere og bortskaffe data.
A68: 4.2 | B68: Procedurerne skal gøre enheden i stand til at identificere og vurdere risici ved specifikke leverandører og indgå aftaler, der sikrer overholdelse af enhedens krav til forsynings- og cybersikkerhed.
A69: 4.3 | B69: For at undgå unødigt høje krav bør enheden anvende en risikobaseret tilgang, hvor kravene til den enkelte leverandør eller tjenesteudbyder er proportional med den specifikke leverances betydning for enhedens forsynings- og cybersikkerhed.
A70: 4.4 | B70: Enheden bør definere kriterier for, hvordan de udvælger leverandører eller tjenesteudbydere. Kriterierne kan omfatte: • Leverandørernes og tjenesteudbydernes cybersikkerhedspraksis, herunder deres procedurer for sikker udvikling. • Leverandørens eller tjenesteudbyderens evne til at opfylde enhedens cybersikkerhedsspecifikationer. • Klassifikationsniveau for de it-tjenester, it-systemer eller it-produkter, som leverandøren eller tjenesteudbyderen leverer, herunder leverandørens opfattelse af risikoen. • Leverandøres evne til at opretholde et passende niveau af forsyningssikkerhed. • Enhedens evne og mulighed for at vælge en alternativ leverandør og begrænseleverandørafhængighed. • Leverandørens økonomi og geopolitiske risici.
A71: 4.5 | B71: Enheden bør sikre, at direkte leverandører og udbydere, herunder cloud computing-udbydere,opretholder passende foranstaltninger, der lever op til de sikkerhedskrav, enheden har fastlagt i kontrakten. Det kan ske gennem aftaler om serviceniveau (SLA) og/eller revisionsmekanismer.
A72: 4.6 | B72: Enheden bør overveje at anvende disse sikkerhedskrav til eksisterende leverandører, som en del af udvælgelsesprocessen for nye direkte leverandører og udbydere, samt ved planlægning, forberedelse, styring og afslutning af indkøb af it-tjenester, it-systemer eller it-produkter.
A73: 4.7 | B73: Enheden bør gennemgå procedurer til leverandørstyring og monitorere, gennemgå, evaluere og styre ændringer, der måtte opstå i de direkte leverandørers eller tjenesteudbyderes cybersikkerhedspraksis, med planlagte intervaller eller i tilfælde af en hændelse, der har eller kan påvirke cybersikkerheden i enhedens net- og informationssystemer. Observationer fra disse gennemgange, monitoreringer, evalueringer mv. bør dokumenteres.
A74: 5a. ERHVERVELSE, UDVIKLING OG VEDLIGEHOLDELSE
A75: 5.1 | B75: Enheden skal udarbejde dokumenterede procedurer for cybersikkerhed: • Ved anskaffelse af it-produkter eller tjenester fra tredje part • Ved udvikling af net- og informationssystemer • Ved vedligeholdelse af net- og informationssystemer • Ved afvikling/bortskaffelse af net- og informationssystemer. | C75: Enheden kan: • Sikre, at sikkerhedsopdateringer er tilgængelige fra producenten i hele produktets forventede levetid. • Etablere, dokumentere, implementere og overvåge konfigurationer, herunder patches og opdateringer af hardware, software, tjenester og netværk i egenudviklede såvel som indkøbte net- og informationssystemer. • Sikre, at ændringer, reparationer og vedligeholdelse af net- og informationssystemer er underlagt procedurer for ændringsstyring i overensstemmelse med enhedens politikker. • Udføre tests, der kan spænde fra konfigurationsgennemgange til tests af enhedens samlede net- og informationssikkerhed. • Specificere og anvende procedurer for ændringsstyring. • Styre risici, der stammer fra erhvervelse af it-tjenester, it-systemer eller it-produkter fra leverandører og tjenesteudbydere gennem hele tjenestens, systemets eller produktets livscyklus. • Etablere og stille tydelige krav om at anvende regler for sikker udvikling af software ogsystemer, når enheden anskaffer eller udvikler net- og informationssystemer. Reglerne bør dække alle udviklingsfaser (specifikation, design, udvikling, implementering og test),eksempelvis gennem ”Security by Design”. • Adskille systemer i netværk eller zoner baseret på forretningsbehov og kritikalitet underhensyntagen til resultaterne af risikovurderinger. • Beskytte net- og informationssystemer mod skadelig og uautoriseret software ved atindføre foranstaltninger, der detekterer eller forhindrer brugen af malware - eksempelvis ved at installere og opdatere automatisk anti-malwaresoftware på alle relevante aktiver.
A76: 5.2 | B76: Procedurerne skal tage udgangspunkt i enhedens politik for informationssystemssikkerhed og bør være koblet til enhedens politik og metoder for risikostyring samt procedurer for leverandørstyring.
A77: 5.3 | B77: Enheden bør gennemgå deres processer for styring af livscyklus for indkøbte og selvudviklede ittjenester, itsystemer eller it-produkter med regelmæssige planlagte mellemrum eller ved væsentlige hændelser. Observationer fra gennemgangen bør dokumenteres.
A78: 5b. HÅNDTERING AF SÅRBARHEDER
A79: 5.4 | B79: Enheden skal udarbejde procedurer for håndtering af sårbarheder, der kan have indvirkning på enhedens net- og informationssystemer.
A80: 5.5 | B80: Procedurerne skal gøre enheden i stand til at indhente oplysninger om tekniske sårbarheder i sine net- og informationssystemer, evaluere enhedens eksponering for sådanne sårbarheder og træffe passende foranstaltninger til at håndtere sårbarhederne.
A81: 5.6 | B81: Enheden skal indberette væsentlige hændelser.
A82: 5.7 | B82: Enheden bør: • Følge med i informationer om sårbarheder fra forskellige kilder. Eksempelvis i meddelelser fra CSIRT, den sektoransvarlige myndighed eller i informationer modtaget fra leverandører eller tjenesteudbydere. • Implementere proceduren for håndtering af sårbarheder eller dokumentere begrundelsen for, hvorfor en sårbarhed ikke kræver udbedring.
A83: 5.8 | B83: Enheden bør udføre sårbarhedsscanninger med regelmæssige planlagte mellemrum og ved større ændringer eller sikkerhedshændelser, og dokumentere resultaterne. | C83: Vær opmærksom på, at aktive scanninger af OT-miljøer kan medføre forstyrrelser eller nedetid. Som alternativ til aktive sårbarhedsscanninger i OT-miljøer kan enheden implementere passive overvågningsmetoder, som f.eks. monitorering og netværkstrafikanalyse, der kan være understøttet af regelmæssige sikkerhedsvurderinger af systemkonfigurationer.
A84: 5.9 | B84: Håndteringen af sårbarheder bør være afstemt med enhedens styring af ændringer og håndtering af hændelser.
A85: 5.10 | B85: Sårbarheder, der anses for at være kritiske, bør håndteres uden unødige forsinkelser.
A86: 5.11 | B86: Enheden bør gennemføre sårbarhedsscanninger og indsamle observationer med regelmæssige planlagte mellemrum og ved større ændringer eller sikkerhedshændelser. Scanninger, observationer og håndtering bør dokumenteres.
A87: 5.12 | B87: Enheden bør monitorere sine kilder til sårbarhedsinformationer med planlagte mellemrum og dokumentere de sårbarheder, der er relevante for enheden.
A88: 6a. VURDERING AF EFFEKTIVITETEN AF DE IMPLEMENTEREDE FORANSTALTNINGER
A89: 6.1 | B89: Enheden skal udarbejde en politik for, hvordan man løbende vurderer enhedens implementerede foranstaltninger. | C89: Enheden kan sikre, at de personer, der har ansvar for risikostyring, foranstaltninger og ledelsesrapportering, er bekendt med kravene til vurdering af effektivitet, så de kan tilrettelægge relevante kontroller og følge op på resultaterne.
A90: 6.2 | B90: Vurderingen skal undersøge, om foranstaltningerne er tilstrækkelige til fortsat at beskytte mod relevante risici samt vurdere, om enhedens politik for informationssystemsikkerhed er i overensstemmelse med både enhedens egne krav, gældende lovgivning og relevante gennemførelsesforordninger.
A91: 6.3 | B91: Herudover skal enheden udarbejde procedurer for at gennemføre disse vurderinger samt vurdere behovet for tekniske tests.
A92: 6.4 | B92: Procedurerne bør indeholde: • Konkrete værktøjer og metoder, der gør det muligt løbende at vurdere og afprøve sikkerheden i net- og informationssystemer, eksempelvis ved brug af tekniske tests. • Vurderingen af, om foranstaltninger lever op til gældende love og regler. • Metoder til at vurdere, om politikken efterleves, samt hvordan enheden kontrollerer, at foranstaltningerne er implementeret effektivt og vedligeholdes i forhold til de aktiver, de skal beskytte. • En metode til håndtering af en foranstaltning, der vurderes ineffektiv, der sikrer, at der følges op, og at der ændres på foranstaltningen. • Angivelse af, hvem der skal udføre vurderingerne.
A93: 6.5 | B93: Politik og procedurer bør tage højde for: • Resultater af risikovurderinger. • Tidligere hændelser. • Hvad foranstaltningerne skal beskytte, om foranstaltningerne giver den rette beskyttelse, og om enheden har de nødvendige driftsbetingelser til at afvikle foranstaltningerne.
A94: 6.6 | B94: Politik og procedurer bør være koblet til enhedens politik for informationssystemssikkerhed, enhedens politik og metoder for risikostyring, samt hændelseshåndtering.
A95: 6.7 | B95: Politik og procedure for vurdering af effektiviteten af de implementerede foranstaltninger bør ajourføres med planlagte intervaller og ved væsentlige ændringer af enhedens forretningsmæssige mål og ændringer i enhedens sårbarheder og trusselsbillede. Det kan eksempelvis være forud for den fastlagte gennemgang af enhedens politik for informationssystemsikkerhed.
A96: 6b. TEKNISKE TESTS
A97: 6.8 | B97: Enheden skal løbende vurdere behovet for tekniske tests som led i evalueringen af, hvor effektivt de implementerede foranstaltninger fungerer. | C97: Tekniske tests kan eksempelvis være: • Sårbarhedsscanninger (automatisk scanning for kendte sårbarheder i systemer, netværk og applikationer). Vær opmærksom på, at aktive scanninger af OT-miljøer kan medføre forstyrrelser eller nedetid. • Penetrationstests (pentests). Simulerede angreb for at identificere og udnytte sårbarheder, som en angriber ville kunne udnytte. • Red team-tests (avancerede, målrettede angreb for at teste det samlede forsvar og detektionsevne). • Blue team-aktiviteter (forsvar og hændelseshåndtering mod angreb, inkl. logovervågning og respons). • Konfigurationsgennemgang (review af system- og netværksopsætninger ift. best practice og sikkerhedspolitikker) • Kodegennemgang (analyse af kildekode for at identificere sikkerhedsfejl og svagheder). • Patch management review (gennemgang af opdateringsrutiner og om kendte sårbarheder er adresseret). • Social engineering-tests (tests af menneskelig sårbarhed via f.eks. phishing, smishing eller fysisk adgang). • Tests af adgangskontroller og passwordsikkerhed (kontrol af autentificeringsmekanismer, herunder styrken af adgangskoder).
A98: 6.9 | B98: På baggrund af en risikovurdering skal enheden definere behovet for og frekvensen af forskellige typer af tests, samt hvilke komponenter, systemer og organisatoriske elementer, der er relevante at teste i forhold til sikker drift.
A99: 6.10 | B99: Net- og informationssystemer bør sikkerhedstestes i forbindelse med installation, vedligeholdelse samt ved opgradering eller ændringer af infrastruktur og applikationer, som enheden vurderer som væsentlige.
A100: 6.11 | B100: Derudover bør der gennemføres regelmæssige og planlagte tekniske tests på tværs af organisationen samt ved væsentlige ændringer. Test kan udføres af enheden eller af tredjepart.
A101: 6.12 | B101: Resultater af test bør noteres under testforløbet.
...

Sheet Selvevaluering_beskrivelse
B2: Selvevaluering: værdier og beskrivelse
B3: Implementering af foranstaltninger | F3: Handlingsplan | H3: KRAV OG ANBEFALINGER
B4: Betydning af værdier | D4: 1 | E4: Foranstaltningen er hverken implementeret eller planlagt | F4: Alle elementer markeret med rød identificeres som kritiske eller problematiske. Fokus er her på at reducere væsentlig risiko, fejl eller ineffektivitet. Første skridt er at flytte alle røde elementer til orange, hvilket betyder, at situationen er stabiliseret, men fortsat kræver betydelig opmærksomhed. | H4: Betydning af farvekoder | K4: I denne vejledning skelnes der mellem de dele af foranstaltningerne, der SKAL implementeres (et krav), de dele af foranstaltningerne der BØR implementeres (en anbefaling).
D5: 2 | E5: Foranstaltningen er planlagt, men ikke implementeret | F5: Når røde elementer er rykket til orange, arbejdes der videre med at reducere risiko og påvirkning. Orange indikerer fortsat forhøjet risikoniveau, men med iværksatte tiltag. Målet er at forbedre disse forhold yderligere, så de kan rykkes til gul status. | J5: SKAL | K5: Enheder skal kunne forelægge dokumentation for de foranstaltninger, der SKAL implementeres.
D6: 3 | E6: Foranstaltningen er delvist implementeret | F6: Gule værdier er under kontrol, men stadig ikke optimale. Her fokuseres der på yderligere forbedring og stabilisering, så elementerne kan bringes til grøn status, hvilket indikerer en acceptabel og stabil tilstand. | J6: BØR | K6: For de dele af foranstaltninger, der BØR implementeres, skal enheden over for den relevante tilsynsførende myndighed være i stand til at forklare, hvorfor de ikke har implementeret den pågældende foranstaltning. Denne vurdering skal tage hensyn til det aktuelle teknologiske stade, gennemførelsesomkostningerne og enhedens risici, herunder samfundsmæssige og økonomiske indvirkninger. Benyt "Ikke relevant" i dropdown menuen hvis et BØR krav ikke implementeres.
D7: 4 | E7: Foranstaltningen er fuldt implementeret | F7: Til sidst fokuseres der på de grønne værdier. Der arbejdes stadig med løbende optimering. Målet er at reducere værdien så tæt på 1 som muligt. Grøn markerer altså både stabilitet og aktiv forbedring. | H7: #VALUE!
D8: Ikke relevant | E8: Det er ikke relevant at angive et svar i denne kategori. | F8: Disse undtages fra handling, såfremt der foreligger tilstrækkelig og forsvarlig dokumentation.

Sheet Selvevaluering_output
A1: #VALUE!
A2: Output fra selvevalueringen
A23: 1a. POLITIK FOR INFORMATIONSSYSTEMSSIKKERHED
A24: 1.1 | B24: =Selvevalueringsværktøj!D7 -> 0
A25: 1.2 | B25: =Selvevalueringsværktøj!D8 -> 0
A26: 1.3 | B26: =Selvevalueringsværktøj!D9 -> 0
A27: 1.4 | B27: =Selvevalueringsværktøj!D10 -> 0
A28: 1.5 | B28: =Selvevalueringsværktøj!D11 -> 0
A29: 1.6 | B29: =Selvevalueringsværktøj!D12 -> 0
A30: 1.7 | B30: =Selvevalueringsværktøj!D13 -> 0
A31: 1.8 | B31: =Selvevalueringsværktøj!D14 -> 0
A32: 1.9 | B32: =Selvevalueringsværktøj!D15 -> 0
A33: 1b. POLITIK FOR RISIKOSTYRING
A34: 1.10 | B34: =Selvevalueringsværktøj!D17 -> 0
A35: 1.11 | B35: =Selvevalueringsværktøj!D18 -> 0
A36: 1.12 | B36: =Selvevalueringsværktøj!D19 -> 0
A37: 1.13 | B37: =Selvevalueringsværktøj!D20 -> 0
A38: 1.14 | B38: =Selvevalueringsværktøj!D21 -> 0
A39: 1.15 | B39: =Selvevalueringsværktøj!D22 -> 0
A40: 1.16 | B40: =Selvevalueringsværktøj!D23 -> 0
A41: Gennemsnit §6, stk. 1 | B41: =AVERAGE(B24:B40) -> 0
A42: 2a. HÅNDTERING AF HÆNDELSER
A43: 2.1 | B43: =Selvevalueringsværktøj!D25 -> 0
A44: 2.2 | B44: =Selvevalueringsværktøj!D26 -> 0
A45: 2.3 | B45: =Selvevalueringsværktøj!D27 -> 0
A46: 2.4 | B46: =Selvevalueringsværktøj!D28 -> 0
A47: 2.5 | B47: =Selvevalueringsværktøj!D29 -> 0
A48: 2.6 | B48: =Selvevalueringsværktøj!D30 -> 0
A49: 2b. LOGNING OG MONITORERING
A50: 2.7 | B50: =Selvevalueringsværktøj!D32 -> 0
A51: 2.8 | B51: =Selvevalueringsværktøj!D33 -> 0
A52: 2.9 | B52: =Selvevalueringsværktøj!D34 -> 0
A53: 2.10 | B53: =Selvevalueringsværktøj!D35 -> 0
A54: 2.11 | B54: =Selvevalueringsværktøj!D36 -> 0
A55: 2.12 | B55: =Selvevalueringsværktøj!D37 -> 0
A56: 2.13 | B56: =Selvevalueringsværktøj!D38 -> 0
A57: 2.14 | B57: =Selvevalueringsværktøj!D39 -> 0
A58: 2.15 | B58: =Selvevalueringsværktøj!D40 -> 0
A59: 2.16 | B59: =Selvevalueringsværktøj!D41 -> 0
A60: 2.17 | B60: =Selvevalueringsværktøj!D42 -> 0
A61: Gennemsnit §6, stk.2 | B61: =AVERAGE(B43:B60) -> 0
A62: 3a. DRIFTSKONTINUITET
A63: 3.1 | B63: =Selvevalueringsværktøj!D44 -> 0
A64: 3.2 | B64: =Selvevalueringsværktøj!D45 -> 0
A65: 3.3 | B65: =Selvevalueringsværktøj!D46 -> 0
A66: 3.4 | B66: =Selvevalueringsværktøj!D47 -> 0
A67: 3.5 | B67: =Selvevalueringsværktøj!D48 -> 0
A68: 3.6 | B68: =Selvevalueringsværktøj!D49 -> 0
A69: 3b. BACKUP
A70: 3.7 | B70: =Selvevalueringsværktøj!D51 -> 0
A71: 3.8 | B71: =Selvevalueringsværktøj!D52 -> 0
A72: 3.9 | B72: =Selvevalueringsværktøj!D53 -> 0
A73: 3c. REDUNDANS
A74: 3.10 | B74: =Selvevalueringsværktøj!D55 -> 0
A75: 3.11 | B75: =Selvevalueringsværktøj!D56 -> 0
A76: 3.12 | B76: =Selvevalueringsværktøj!D57 -> 0
A77: 3.13 | B77: =Selvevalueringsværktøj!D58 -> 0
A78: 3.14 | B78: =Selvevalueringsværktøj!D59 -> 0
A79: 3d. KRISESTYRING
A80: 3.15 | B80: =Selvevalueringsværktøj!D61 -> 0
A81: 3.16 | B81: =Selvevalueringsværktøj!D62 -> 0
A82: 3.17 | B82: =Selvevalueringsværktøj!D63 -> 0
A83: 3.18 | B83: =Selvevalueringsværktøj!D64 -> 0
A84: 3.19 | B84: =Selvevalueringsværktøj!D65 -> 0
A85: Gennemsnit §6, stk. 3 | B85: =AVERAGE(B63:B84) -> 0
A86: 4a. FORSYNINGSKÆDESIKKERHED
A87: 4.1 | B87: =Selvevalueringsværktøj!D67 -> 0
A88: 4.2 | B88: =Selvevalueringsværktøj!D68 -> 0
A89: 4.3 | B89: =Selvevalueringsværktøj!D69 -> 0
A90: 4.4 | B90: =Selvevalueringsværktøj!D70 -> 0
A91: 4.5 | B91: =Selvevalueringsværktøj!D71 -> 0
A92: 4.6 | B92: =Selvevalueringsværktøj!D72 -> 0
A93: 4.7 | B93: =Selvevalueringsværktøj!D73 -> 0
A94: Gennemsnit §6, stk. 4 | B94: =AVERAGE(B87:B93) -> 0
A95: 5a. ERHVERVELSE, UDVIKLING OG VEDLIGEHOLDELSE
A96: 5.1 | B96: =Selvevalueringsværktøj!D75 -> 0
A97: 5.2 | B97: =Selvevalueringsværktøj!D76 -> 0
A98: 5.3 | B98: =Selvevalueringsværktøj!D77 -> 0
A99: 5b. HÅNDTERING AF SÅRBARHEDER
A100: 5.4 | B100: =Selvevalueringsværktøj!D79 -> 0
A101: 5.5 | B101: =Selvevalueringsværktøj!D80 -> 0
A102: 5.6 | B102: =Selvevalueringsværktøj!D81 -> 0
A103: 5.7 | B103: =Selvevalueringsværktøj!D82 -> 0
A104: 5.8 | B104: =Selvevalueringsværktøj!D83 -> 0
A105: 5.9 | B105: =Selvevalueringsværktøj!D84 -> 0
A106: 5.10 | B106: =Selvevalueringsværktøj!D85 -> 0
A107: 5.11 | B107: =Selvevalueringsværktøj!D86 -> 0
A108: 5.12 | B108: =Selvevalueringsværktøj!D87 -> 0
A109: Gennemsnit §6, stk. 5 | B109: =AVERAGE(B96:B108) -> 0
A110: 6a. VURDERING AF EFFEKTIVITETEN AF DE IMPLEMENTEREDE FORANSTALTNINGER
A111: 6.1 | B111: =Selvevalueringsværktøj!D89 -> 0
A112: 6.2 | B112: =Selvevalueringsværktøj!D90 -> 0
A113: 6.3 | B113: =Selvevalueringsværktøj!D91 -> 0
A114: 6.4 | B114: =Selvevalueringsværktøj!D92 -> 0
A115: 6.5 | B115: =Selvevalueringsværktøj!D93 -> 0
A116: 6.6 | B116: =Selvevalueringsværktøj!D94 -> 0
A117: 6.7 | B117: =Selvevalueringsværktøj!D95 -> 0
A118: 6b. TEKNISKE TESTS
A119: 6.8 | B119: =Selvevalueringsværktøj!D97 -> 0
A120: 6.9 | B120: =Selvevalueringsværktøj!D98 -> 0
...
